BEGIN:VCALENDAR
VERSION:2.0
PRODID:-//Kreishandwerkerschaft Essen - ECPv6.15.20//NONSGML v1.0//EN
CALSCALE:GREGORIAN
METHOD:PUBLISH
X-WR-CALNAME:Kreishandwerkerschaft Essen
X-ORIGINAL-URL:https://www.handwerk-essen.de
X-WR-CALDESC:Veranstaltungen für Kreishandwerkerschaft Essen
REFRESH-INTERVAL;VALUE=DURATION:PT1H
X-Robots-Tag:noindex
X-PUBLISHED-TTL:PT1H
BEGIN:VTIMEZONE
TZID:Europe/Berlin
BEGIN:DAYLIGHT
TZOFFSETFROM:+0100
TZOFFSETTO:+0200
TZNAME:CEST
DTSTART:20250330T010000
END:DAYLIGHT
BEGIN:STANDARD
TZOFFSETFROM:+0200
TZOFFSETTO:+0100
TZNAME:CET
DTSTART:20251026T010000
END:STANDARD
BEGIN:DAYLIGHT
TZOFFSETFROM:+0100
TZOFFSETTO:+0200
TZNAME:CEST
DTSTART:20260329T010000
END:DAYLIGHT
BEGIN:STANDARD
TZOFFSETFROM:+0200
TZOFFSETTO:+0100
TZNAME:CET
DTSTART:20261025T010000
END:STANDARD
BEGIN:DAYLIGHT
TZOFFSETFROM:+0100
TZOFFSETTO:+0200
TZNAME:CEST
DTSTART:20270328T010000
END:DAYLIGHT
BEGIN:STANDARD
TZOFFSETFROM:+0200
TZOFFSETTO:+0100
TZNAME:CET
DTSTART:20271031T010000
END:STANDARD
END:VTIMEZONE
BEGIN:VEVENT
DTSTART;TZID=Europe/Berlin:20260423T170000
DTEND;TZID=Europe/Berlin:20260423T200000
DTSTAMP:20260420T133831
CREATED:20251211T124952Z
LAST-MODIFIED:20260417T075208Z
UID:13194-1776963600-1776974400@www.handwerk-essen.de
SUMMARY:Handwerkspolitisches Forum 2026
DESCRIPTION:Weitere Informationen zur Veranstaltung
URL:https://www.handwerk-essen.de/veranstaltung/handwerkspolitisches-forum-2026/
LOCATION:Haus des Handwerks\, Großer Sitzungssaal
END:VEVENT
BEGIN:VEVENT
DTSTART;TZID=Europe/Berlin:20260424T120000
DTEND;TZID=Europe/Berlin:20260424T180000
DTSTAMP:20260420T133831
CREATED:20251211T124952Z
LAST-MODIFIED:20260409T140631Z
UID:13196-1777032000-1777053600@www.handwerk-essen.de
SUMMARY:Handwerk.EXPO Essen
DESCRIPTION:Am 24. April 2026 verwandeln wir das Haus des Handwerks in einen Hotspot für das Innungshandwerk. Informieren Sie sich in geselliger Atmosphäre zu aktuellen Trends und Themen und knüpfen Sie gewerkeübergreifend Kontakte! Besuch und Verpflegung sind für\n\nBetriebsinhaberinnen und Betriebsinhaber\nFachkräfte\nAuszubildende\n\nunserer angeschlossenen Innungsbetriebe kostenfrei.\nWeitere Informationen zur Veranstaltung
URL:https://www.handwerk-essen.de/veranstaltung/klimatage-des-essener-handwerks-2026/
LOCATION:Haus des Handwerks
END:VEVENT
BEGIN:VEVENT
DTSTART;TZID=Europe/Berlin:20260519T173000
DTEND;TZID=Europe/Berlin:20260519T200000
DTSTAMP:20260420T133831
CREATED:20251211T124953Z
LAST-MODIFIED:20260320T173405Z
UID:13198-1779211800-1779220800@www.handwerk-essen.de
SUMMARY:Innungsversammlung Maler- und Lackierer-Innung Essen
DESCRIPTION:
URL:https://www.handwerk-essen.de/veranstaltung/innungsversammlung-maler-und-lackierer-innung-essen/
LOCATION:Haus des Handwerks\, Großer Sitzungssaal
END:VEVENT
BEGIN:VEVENT
DTSTART;TZID=Europe/Berlin:20260521T100000
DTEND;TZID=Europe/Berlin:20260521T120000
DTSTAMP:20260420T133831
CREATED:20251211T124953Z
LAST-MODIFIED:20260320T173405Z
UID:13199-1779357600-1779364800@www.handwerk-essen.de
SUMMARY:Vorstandssitzung Kreishandwerkerschaft Essen
DESCRIPTION:
URL:https://www.handwerk-essen.de/veranstaltung/vorstandssitzung-kreishandwerkerschaft-essen-2/
LOCATION:Haus des Handwerks\, 1. OG-S
END:VEVENT
BEGIN:VEVENT
DTSTART;TZID=Europe/Berlin:20260527T170000
DTEND;TZID=Europe/Berlin:20260527T190000
DTSTAMP:20260420T133831
CREATED:20251211T131953Z
LAST-MODIFIED:20260320T173406Z
UID:13207-1779901200-1779908400@www.handwerk-essen.de
SUMMARY:Vorstandssitzung Maler- und Lackierer-Innung Essen
DESCRIPTION:
URL:https://www.handwerk-essen.de/veranstaltung/vorstandssitzung-maler-und-lackierer-innung-essen/
LOCATION:Haus des Handwerks\, 1. OG-S
END:VEVENT
BEGIN:VEVENT
DTSTART;TZID=Europe/Berlin:20260908T170000
DTEND;TZID=Europe/Berlin:20260908T200000
DTSTAMP:20260420T133831
CREATED:20260307T230410Z
LAST-MODIFIED:20260320T173406Z
UID:17698-1788886800-1788897600@www.handwerk-essen.de
SUMMARY:Vorstandssitzung Maler- und Lackierer-Innung Essen
DESCRIPTION:
URL:https://www.handwerk-essen.de/veranstaltung/vorstandssitzung-maler-und-lackierer-innung-essen-3/
LOCATION:1. OG-S
END:VEVENT
END:VCALENDAR